BEGIN:VCALENDAR
VERSION:2.0
PRODID:-//Nu Chi Omega Chapter - ECPv6.11.2//NONSGML v1.0//EN
CALSCALE:GREGORIAN
METHOD:PUBLISH
X-ORIGINAL-URL:https://nuchiomegaaka.com
X-WR-CALDESC:Events for Nu Chi Omega Chapter
REFRESH-INTERVAL;VALUE=DURATION:PT1H
X-Robots-Tag:noindex
X-PUBLISHED-TTL:PT1H
BEGIN:VTIMEZONE
TZID:UTC
BEGIN:STANDARD
TZOFFSETFROM:+0000
TZOFFSETTO:+0000
TZNAME:UTC
DTSTART:20240101T000000
END:STANDARD
END:VTIMEZONE
BEGIN:VEVENT
DTSTART;TZID=UTC:20240608T110000
DTEND;TZID=UTC:20240608T123000
DTSTAMP:20260424T153621
CREATED:20240715T222630Z
LAST-MODIFIED:20240716T143443Z
UID:92-1717844400-1717849800@nuchiomegaaka.com
SUMMARY:Getting Your Affairs in Order Workshop
DESCRIPTION:Join us for this informative presentation to increase your awareness of the need for proper estate planning and how to protect your assets. Featured speaker – Nathan Bakerville\, Esq.
URL:https://nuchiomegaaka.com/event/getting-your-affairs-in-order-workshop
LOCATION:Baskerville & Baskerville\, PLLC Office\, 424 N. Williams St.\, Henderson\, NC\, 27536\, United States
CATEGORIES:BOEW Committee
ATTACH;FMTTYPE=image/png:https://nuchiomegaaka.com/wp-content/uploads/2024/07/BOEW-Will-Trust-Workshop-6-8-24.png
END:VEVENT
END:VCALENDAR