BEGIN:VCALENDAR
VERSION:2.0
PRODID:-//Nu Chi Omega Chapter - ECPv6.11.2//NONSGML v1.0//EN
CALSCALE:GREGORIAN
METHOD:PUBLISH
X-WR-CALNAME:Nu Chi Omega Chapter
X-ORIGINAL-URL:https://nuchiomegaaka.com
X-WR-CALDESC:Events for Nu Chi Omega Chapter
REFRESH-INTERVAL;VALUE=DURATION:PT1H
X-Robots-Tag:noindex
X-PUBLISHED-TTL:PT1H
BEGIN:VTIMEZONE
TZID:UTC
BEGIN:STANDARD
TZOFFSETFROM:+0000
TZOFFSETTO:+0000
TZNAME:UTC
DTSTART:20240101T000000
END:STANDARD
END:VTIMEZONE
BEGIN:VEVENT
DTSTART;TZID=UTC:20240628T170000
DTEND;TZID=UTC:20240628T200000
DTSTAMP:20260424T153623
CREATED:20240716T031112Z
LAST-MODIFIED:20240716T154146Z
UID:104-1719594000-1719604800@nuchiomegaaka.com
SUMMARY:Garden of Sisterhood - Mentoring Celebration
DESCRIPTION:On behalf of the Mentoring Committee\, chapter members and guests are invited to the “Garden of Sisterhood” event on June 28\, 2024\, at the Crossroads Event Center in Henderson. This event serves as a special celebration of the Spring 2022 initiates! \nPlease RSVP by completing this form and don’t forget to wear dressy pink and/or green attire as recommended.
URL:https://nuchiomegaaka.com/event/garden-of-sisterhood-mentoring-celebration
LOCATION:Crossroads Event Center\, 943 Andrews Ave.\, Henderson\, NC\, 27536\, United States
CATEGORIES:Celebration
ATTACH;FMTTYPE=image/png:https://nuchiomegaaka.com/wp-content/uploads/2024/07/Garden-of-Sisterhood-e1721099508790.png
END:VEVENT
END:VCALENDAR