BEGIN:VCALENDAR
VERSION:2.0
PRODID:-//Nu Chi Omega Chapter - ECPv6.11.2//NONSGML v1.0//EN
CALSCALE:GREGORIAN
METHOD:PUBLISH
X-ORIGINAL-URL:https://nuchiomegaaka.com
X-WR-CALDESC:Events for Nu Chi Omega Chapter
REFRESH-INTERVAL;VALUE=DURATION:PT1H
X-Robots-Tag:noindex
X-PUBLISHED-TTL:PT1H
BEGIN:VTIMEZONE
TZID:UTC
BEGIN:STANDARD
TZOFFSETFROM:+0000
TZOFFSETTO:+0000
TZNAME:UTC
DTSTART:20250101T000000
END:STANDARD
END:VTIMEZONE
BEGIN:VEVENT
DTSTART;VALUE=DATE:20250306
DTEND;VALUE=DATE:20250310
DTSTAMP:20260420T154230
CREATED:20250315T150745Z
LAST-MODIFIED:20250315T150745Z
UID:743-1741219200-1741564799@nuchiomegaaka.com
SUMMARY:72nd Mid-Atlantic Regional Conference
DESCRIPTION:Members from around the Mid-Atlantic Region (NC and VA) will convene for the 72nd MAR Conference in Richmond\, VA from March 6-9\, 2025.
URL:https://nuchiomegaaka.com/event/72nd-mid-atlantic-regional-conference
ATTACH;FMTTYPE=image/png:https://nuchiomegaaka.com/wp-content/uploads/2025/03/Screenshot-2025-03-15-at-11.02.10 AM.png
END:VEVENT
END:VCALENDAR