BEGIN:VCALENDAR
VERSION:2.0
PRODID:-//Nu Chi Omega Chapter - ECPv6.11.2//NONSGML v1.0//EN
CALSCALE:GREGORIAN
METHOD:PUBLISH
X-WR-CALNAME:Nu Chi Omega Chapter
X-ORIGINAL-URL:https://nuchiomegaaka.com
X-WR-CALDESC:Events for Nu Chi Omega Chapter
REFRESH-INTERVAL;VALUE=DURATION:PT1H
X-Robots-Tag:noindex
X-PUBLISHED-TTL:PT1H
BEGIN:VTIMEZONE
TZID:America/New_York
BEGIN:DAYLIGHT
TZOFFSETFROM:-0500
TZOFFSETTO:-0400
TZNAME:EDT
DTSTART:20240310T070000
END:DAYLIGHT
BEGIN:STANDARD
TZOFFSETFROM:-0400
TZOFFSETTO:-0500
TZNAME:EST
DTSTART:20241103T060000
END:STANDARD
END:VTIMEZONE
BEGIN:VEVENT
DTSTART;TZID=America/New_York:20240622T100000
DTEND;TZID=America/New_York:20240622T233000
DTSTAMP:20260423T070422
CREATED:20240715T221017Z
LAST-MODIFIED:20240716T150136Z
UID:83-1719050400-1719099000@nuchiomegaaka.com
SUMMARY:NXΩ Chapter Meeting
DESCRIPTION:Regular chapter meeting for Nu Chi Omega chapter members. If you are an initiated member of Alpha Kappa Alpha Sorority\, Incorporated® and would like to attend our chapter meeting\, please email for more information. All visitors will be required to provide a picture ID and proof of membership.
URL:https://nuchiomegaaka.com/event/nx%cf%89-chapter-meeting
LOCATION:NC
CATEGORIES:Chapter Meeting
ATTACH;FMTTYPE=image/jpeg:https://nuchiomegaaka.com/wp-content/uploads/2024/07/nco-long-logo.jpg
ORGANIZER;CN="Nu Chi Omega":MAILTO:nuchiomega@gmail.com
END:VEVENT
END:VCALENDAR