BEGIN:VCALENDAR
VERSION:2.0
PRODID:-//Nu Chi Omega Chapter - ECPv6.11.2//NONSGML v1.0//EN
CALSCALE:GREGORIAN
METHOD:PUBLISH
X-WR-CALNAME:Nu Chi Omega Chapter
X-ORIGINAL-URL:https://nuchiomegaaka.com
X-WR-CALDESC:Events for Nu Chi Omega Chapter
REFRESH-INTERVAL;VALUE=DURATION:PT1H
X-Robots-Tag:noindex
X-PUBLISHED-TTL:PT1H
BEGIN:VTIMEZONE
TZID:UTC
BEGIN:STANDARD
TZOFFSETFROM:+0000
TZOFFSETTO:+0000
TZNAME:UTC
DTSTART:20250101T000000
END:STANDARD
END:VTIMEZONE
BEGIN:VEVENT
DTSTART;TZID=UTC:20250621T100000
DTEND;TZID=UTC:20250621T113000
DTSTAMP:20260423T214350
CREATED:20250315T141714Z
LAST-MODIFIED:20250315T142312Z
UID:722-1750500000-1750505400@nuchiomegaaka.com
SUMMARY:NXΩ Chapter Meeting
DESCRIPTION:Regular chapter meeting for Nu Chi Omega chapter members. If you are an initiated member of Alpha Kappa Alpha Sorority\, Incorporated® and would like to attend our chapter meeting\, please email for more information. All visitors will be required to provide a picture ID and proof of membership.
URL:https://nuchiomegaaka.com/event/nx%cf%89-chapter-meeting-16
LOCATION:Center for Innovation – Vance Co. Schools\, 219 Charles St.\, Henderson\, NC\, 27536\, United States
CATEGORIES:Chapter Meeting
ATTACH;FMTTYPE=image/jpeg:https://nuchiomegaaka.com/wp-content/uploads/2024/07/nco-long-logo.jpg
ORGANIZER;CN="Nu Chi Omega":MAILTO:nuchiomega@gmail.com
END:VEVENT
BEGIN:VEVENT
DTSTART;TZID=UTC:20250621T120000
DTEND;TZID=UTC:20250621T140000
DTSTAMP:20260423T214350
CREATED:20250619T215302Z
LAST-MODIFIED:20250619T215302Z
UID:905-1750507200-1750514400@nuchiomegaaka.com
SUMMARY:Nu Chi Omega Chapter Retreat 2025
DESCRIPTION:The NCO 2025 Chapter Retreat for  current chapter members is taking place immediately following our June chapter meeting. This one-day event will be filled with fun and information that will equip members with the tools to soar across the Ivy Bridge! Lunch will be provided and there will be lots of prizes\, giveaways\, and a shopping “skee”!
URL:https://nuchiomegaaka.com/event/nu-chi-omega-chapter-retreat-2025
LOCATION:NC
CATEGORIES:Celebration,Chapter Meeting
ATTACH;FMTTYPE=image/jpeg:https://nuchiomegaaka.com/wp-content/uploads/2025/06/Green-Watercolor-Ivy-Wedding-Invitation.zip-1.jpg
ORGANIZER;CN="Nu Chi Omega":MAILTO:nuchiomega@gmail.com
END:VEVENT
BEGIN:VEVENT
DTSTART;TZID=UTC:20250920T100000
DTEND;TZID=UTC:20250920T113000
DTSTAMP:20260423T214350
CREATED:20250315T142403Z
LAST-MODIFIED:20250315T142403Z
UID:724-1758362400-1758367800@nuchiomegaaka.com
SUMMARY:NXΩ Chapter Meeting
DESCRIPTION:Regular chapter meeting for Nu Chi Omega chapter members. If you are an initiated member of Alpha Kappa Alpha Sorority\, Incorporated® and would like to attend our chapter meeting\, please email for more information. All visitors will be required to provide a picture ID and proof of membership.
URL:https://nuchiomegaaka.com/event/nx%cf%89-chapter-meeting-17
LOCATION:Center for Innovation – Vance Co. Schools\, 219 Charles St.\, Henderson\, NC\, 27536\, United States
CATEGORIES:Chapter Meeting
ATTACH;FMTTYPE=image/jpeg:https://nuchiomegaaka.com/wp-content/uploads/2024/07/nco-long-logo.jpg
ORGANIZER;CN="Nu Chi Omega":MAILTO:nuchiomega@gmail.com
END:VEVENT
BEGIN:VEVENT
DTSTART;TZID=UTC:20251018T100000
DTEND;TZID=UTC:20251018T113000
DTSTAMP:20260423T214350
CREATED:20250315T142437Z
LAST-MODIFIED:20250315T142437Z
UID:726-1760781600-1760787000@nuchiomegaaka.com
SUMMARY:NXΩ Chapter Meeting
DESCRIPTION:Regular chapter meeting for Nu Chi Omega chapter members. If you are an initiated member of Alpha Kappa Alpha Sorority\, Incorporated® and would like to attend our chapter meeting\, please email for more information. All visitors will be required to provide a picture ID and proof of membership.
URL:https://nuchiomegaaka.com/event/nx%cf%89-chapter-meeting-18
LOCATION:Center for Innovation – Vance Co. Schools\, 219 Charles St.\, Henderson\, NC\, 27536\, United States
CATEGORIES:Chapter Meeting
ATTACH;FMTTYPE=image/jpeg:https://nuchiomegaaka.com/wp-content/uploads/2024/07/nco-long-logo.jpg
ORGANIZER;CN="Nu Chi Omega":MAILTO:nuchiomega@gmail.com
END:VEVENT
BEGIN:VEVENT
DTSTART;TZID=UTC:20251108T100000
DTEND;TZID=UTC:20251108T113000
DTSTAMP:20260423T214350
CREATED:20250315T142502Z
LAST-MODIFIED:20251016T185257Z
UID:728-1762596000-1762601400@nuchiomegaaka.com
SUMMARY:NXΩ Chapter Meeting
DESCRIPTION:Regular chapter meeting for Nu Chi Omega chapter members. If you are an initiated member of Alpha Kappa Alpha Sorority\, Incorporated® and would like to attend our chapter meeting\, please email for more information. All visitors will be required to provide a picture ID and proof of membership.
URL:https://nuchiomegaaka.com/event/nx%cf%89-chapter-meeting-19
LOCATION:Center for Innovation – Vance Co. Schools\, 219 Charles St.\, Henderson\, NC\, 27536\, United States
CATEGORIES:Chapter Meeting
ATTACH;FMTTYPE=image/jpeg:https://nuchiomegaaka.com/wp-content/uploads/2024/07/nco-long-logo.jpg
ORGANIZER;CN="Nu Chi Omega":MAILTO:nuchiomega@gmail.com
END:VEVENT
BEGIN:VEVENT
DTSTART;TZID=UTC:20251220T100000
DTEND;TZID=UTC:20251220T113000
DTSTAMP:20260423T214350
CREATED:20250315T142528Z
LAST-MODIFIED:20250315T142528Z
UID:730-1766224800-1766230200@nuchiomegaaka.com
SUMMARY:NXΩ Chapter Meeting
DESCRIPTION:Regular chapter meeting for Nu Chi Omega chapter members. If you are an initiated member of Alpha Kappa Alpha Sorority\, Incorporated® and would like to attend our chapter meeting\, please email for more information. All visitors will be required to provide a picture ID and proof of membership.
URL:https://nuchiomegaaka.com/event/nx%cf%89-chapter-meeting-20
LOCATION:Center for Innovation – Vance Co. Schools\, 219 Charles St.\, Henderson\, NC\, 27536\, United States
CATEGORIES:Chapter Meeting
ATTACH;FMTTYPE=image/jpeg:https://nuchiomegaaka.com/wp-content/uploads/2024/07/nco-long-logo.jpg
ORGANIZER;CN="Nu Chi Omega":MAILTO:nuchiomega@gmail.com
END:VEVENT
BEGIN:VEVENT
DTSTART;TZID=UTC:20260117T100000
DTEND;TZID=UTC:20260117T113000
DTSTAMP:20260423T214350
CREATED:20251016T191756Z
LAST-MODIFIED:20251016T191756Z
UID:927-1768644000-1768649400@nuchiomegaaka.com
SUMMARY:NXΩ Chapter Meeting
DESCRIPTION:Regular chapter meeting for Nu Chi Omega chapter members. If you are an initiated member of Alpha Kappa Alpha Sorority\, Incorporated® and would like to attend our chapter meeting\, please email for more information. All visitors will be required to provide a picture ID and proof of membership.
URL:https://nuchiomegaaka.com/event/nx%cf%89-chapter-meeting-22
LOCATION:Center for Innovation – Vance Co. Schools\, 219 Charles St.\, Henderson\, NC\, 27536\, United States
CATEGORIES:Chapter Meeting
ATTACH;FMTTYPE=image/jpeg:https://nuchiomegaaka.com/wp-content/uploads/2024/07/nco-long-logo.jpg
ORGANIZER;CN="Nu Chi Omega":MAILTO:nuchiomega@gmail.com
END:VEVENT
BEGIN:VEVENT
DTSTART;TZID=UTC:20260221T100000
DTEND;TZID=UTC:20260221T113000
DTSTAMP:20260423T214350
CREATED:20251016T191831Z
LAST-MODIFIED:20251016T191831Z
UID:929-1771668000-1771673400@nuchiomegaaka.com
SUMMARY:NXΩ Chapter Meeting
DESCRIPTION:Regular chapter meeting for Nu Chi Omega chapter members. If you are an initiated member of Alpha Kappa Alpha Sorority\, Incorporated® and would like to attend our chapter meeting\, please email for more information. All visitors will be required to provide a picture ID and proof of membership.
URL:https://nuchiomegaaka.com/event/nx%cf%89-chapter-meeting-23
LOCATION:Center for Innovation – Vance Co. Schools\, 219 Charles St.\, Henderson\, NC\, 27536\, United States
CATEGORIES:Chapter Meeting
ATTACH;FMTTYPE=image/jpeg:https://nuchiomegaaka.com/wp-content/uploads/2024/07/nco-long-logo.jpg
ORGANIZER;CN="Nu Chi Omega":MAILTO:nuchiomega@gmail.com
END:VEVENT
BEGIN:VEVENT
DTSTART;TZID=UTC:20260314T100000
DTEND;TZID=UTC:20260314T113000
DTSTAMP:20260423T214350
CREATED:20251016T191905Z
LAST-MODIFIED:20251016T191905Z
UID:931-1773482400-1773487800@nuchiomegaaka.com
SUMMARY:NXΩ Chapter Meeting
DESCRIPTION:Regular chapter meeting for Nu Chi Omega chapter members. If you are an initiated member of Alpha Kappa Alpha Sorority\, Incorporated® and would like to attend our chapter meeting\, please email for more information. All visitors will be required to provide a picture ID and proof of membership.
URL:https://nuchiomegaaka.com/event/nx%cf%89-chapter-meeting-24
LOCATION:Center for Innovation – Vance Co. Schools\, 219 Charles St.\, Henderson\, NC\, 27536\, United States
CATEGORIES:Chapter Meeting
ATTACH;FMTTYPE=image/jpeg:https://nuchiomegaaka.com/wp-content/uploads/2024/07/nco-long-logo.jpg
ORGANIZER;CN="Nu Chi Omega":MAILTO:nuchiomega@gmail.com
END:VEVENT
BEGIN:VEVENT
DTSTART;TZID=UTC:20260418T100000
DTEND;TZID=UTC:20260418T113000
DTSTAMP:20260423T214350
CREATED:20251016T191947Z
LAST-MODIFIED:20251016T191947Z
UID:933-1776506400-1776511800@nuchiomegaaka.com
SUMMARY:NXΩ Chapter Meeting
DESCRIPTION:Regular chapter meeting for Nu Chi Omega chapter members. If you are an initiated member of Alpha Kappa Alpha Sorority\, Incorporated® and would like to attend our chapter meeting\, please email for more information. All visitors will be required to provide a picture ID and proof of membership.
URL:https://nuchiomegaaka.com/event/nx%cf%89-chapter-meeting-25
LOCATION:Center for Innovation – Vance Co. Schools\, 219 Charles St.\, Henderson\, NC\, 27536\, United States
CATEGORIES:Chapter Meeting
ATTACH;FMTTYPE=image/jpeg:https://nuchiomegaaka.com/wp-content/uploads/2024/07/nco-long-logo.jpg
ORGANIZER;CN="Nu Chi Omega":MAILTO:nuchiomega@gmail.com
END:VEVENT
BEGIN:VEVENT
DTSTART;TZID=UTC:20260516T100000
DTEND;TZID=UTC:20260516T113000
DTSTAMP:20260423T214350
CREATED:20251016T192023Z
LAST-MODIFIED:20251016T192023Z
UID:935-1778925600-1778931000@nuchiomegaaka.com
SUMMARY:NXΩ Chapter Meeting
DESCRIPTION:Regular chapter meeting for Nu Chi Omega chapter members. If you are an initiated member of Alpha Kappa Alpha Sorority\, Incorporated® and would like to attend our chapter meeting\, please email for more information. All visitors will be required to provide a picture ID and proof of membership.
URL:https://nuchiomegaaka.com/event/nx%cf%89-chapter-meeting-26
LOCATION:Center for Innovation – Vance Co. Schools\, 219 Charles St.\, Henderson\, NC\, 27536\, United States
CATEGORIES:Chapter Meeting
ATTACH;FMTTYPE=image/jpeg:https://nuchiomegaaka.com/wp-content/uploads/2024/07/nco-long-logo.jpg
ORGANIZER;CN="Nu Chi Omega":MAILTO:nuchiomega@gmail.com
END:VEVENT
BEGIN:VEVENT
DTSTART;TZID=UTC:20260620T100000
DTEND;TZID=UTC:20260620T113000
DTSTAMP:20260423T214350
CREATED:20251016T192052Z
LAST-MODIFIED:20251016T192052Z
UID:937-1781949600-1781955000@nuchiomegaaka.com
SUMMARY:NXΩ Chapter Meeting
DESCRIPTION:Regular chapter meeting for Nu Chi Omega chapter members. If you are an initiated member of Alpha Kappa Alpha Sorority\, Incorporated® and would like to attend our chapter meeting\, please email for more information. All visitors will be required to provide a picture ID and proof of membership.
URL:https://nuchiomegaaka.com/event/nx%cf%89-chapter-meeting-27
LOCATION:Center for Innovation – Vance Co. Schools\, 219 Charles St.\, Henderson\, NC\, 27536\, United States
CATEGORIES:Chapter Meeting
ATTACH;FMTTYPE=image/jpeg:https://nuchiomegaaka.com/wp-content/uploads/2024/07/nco-long-logo.jpg
ORGANIZER;CN="Nu Chi Omega":MAILTO:nuchiomega@gmail.com
END:VEVENT
END:VCALENDAR