BEGIN:VCALENDAR
VERSION:2.0
PRODID:-//Nu Chi Omega Chapter - ECPv6.11.2//NONSGML v1.0//EN
CALSCALE:GREGORIAN
METHOD:PUBLISH
X-ORIGINAL-URL:https://nuchiomegaaka.com
X-WR-CALDESC:Events for Nu Chi Omega Chapter
REFRESH-INTERVAL;VALUE=DURATION:PT1H
X-Robots-Tag:noindex
X-PUBLISHED-TTL:PT1H
BEGIN:VTIMEZONE
TZID:UTC
BEGIN:STANDARD
TZOFFSETFROM:+0000
TZOFFSETTO:+0000
TZNAME:UTC
DTSTART:20250101T000000
END:STANDARD
END:VTIMEZONE
BEGIN:VEVENT
DTSTART;TZID=UTC:20250118T100000
DTEND;TZID=UTC:20250118T113000
DTSTAMP:20260420T172449
CREATED:20250118T100000Z
LAST-MODIFIED:20250315T142130Z
UID:712-1737194400-1737199800@nuchiomegaaka.com
SUMMARY:NXΩ Chapter Meeting
DESCRIPTION:Regular chapter meeting for Nu Chi Omega chapter members. If you are an initiated member of Alpha Kappa Alpha Sorority\, Incorporated® and would like to attend our chapter meeting\, please email for more information. All visitors will be required to provide a picture ID and proof of membership.
URL:https://nuchiomegaaka.com/event/nx%cf%89-chapter-meeting-11
LOCATION:Center for Innovation – Vance Co. Schools\, 219 Charles St.\, Henderson\, NC\, 27536\, United States
CATEGORIES:Chapter Meeting
ATTACH;FMTTYPE=image/jpeg:https://nuchiomegaaka.com/wp-content/uploads/2024/07/nco-long-logo.jpg
ORGANIZER;CN="Nu Chi Omega":MAILTO:nuchiomega@gmail.com
END:VEVENT
BEGIN:VEVENT
DTSTART;TZID=UTC:20250120T080000
DTEND;TZID=UTC:20250120T233000
DTSTAMP:20260420T172449
CREATED:20250315T143958Z
LAST-MODIFIED:20250315T144627Z
UID:732-1737360000-1737415800@nuchiomegaaka.com
SUMMARY:Dr. MLK Jr. Memorial Service & Breakfast
DESCRIPTION:The ladies of Alpha Kappa Alpha Nu Chi Omega chapter will join other Divine Nine organizations to celebrate the life and legacy of Dr. Martin Luther King\, Jr. at Spring St. Baptist Church. The event will occur on June 20th at 8:00AM.
URL:https://nuchiomegaaka.com/event/dr-mlk-jr-memorial-breakfast
LOCATION:Spring Street Missionary Baptist Church\, 511 Orange St.\, Henderson\, NC\, 27536\, United States
CATEGORIES:Community Event
ATTACH;FMTTYPE=image/jpeg:https://nuchiomegaaka.com/wp-content/uploads/2025/03/MLK-Breakfast-2025.jpg
ORGANIZER;CN="Nu Chi Omega":MAILTO:nuchiomega@gmail.com
END:VEVENT
END:VCALENDAR