BEGIN:VCALENDAR
VERSION:2.0
PRODID:-//Nu Chi Omega Chapter - ECPv6.11.2//NONSGML v1.0//EN
CALSCALE:GREGORIAN
METHOD:PUBLISH
X-ORIGINAL-URL:https://nuchiomegaaka.com
X-WR-CALDESC:Events for Nu Chi Omega Chapter
REFRESH-INTERVAL;VALUE=DURATION:PT1H
X-Robots-Tag:noindex
X-PUBLISHED-TTL:PT1H
BEGIN:VTIMEZONE
TZID:UTC
BEGIN:STANDARD
TZOFFSETFROM:+0000
TZOFFSETTO:+0000
TZNAME:UTC
DTSTART:20250101T000000
END:STANDARD
END:VTIMEZONE
BEGIN:VEVENT
DTSTART;TZID=UTC:20250207T180000
DTEND;TZID=UTC:20250207T210000
DTSTAMP:20260420T154311
CREATED:20250315T144528Z
LAST-MODIFIED:20250315T144528Z
UID:736-1738951200-1738962000@nuchiomegaaka.com
SUMMARY:Pink Goes Red - Steppin' into Action
DESCRIPTION:In recognition of American Heart Health Month\, please join the ladies of Nu Chi Omega for interactive sessions that promotes heart health. The event will take place at Aycock Recreation Center on Friday\, February 7th from 6:00-9:00PM. \n  \nThe event is free and open to the public + Donations accepted
URL:https://nuchiomegaaka.com/event/pink-goes-red-steppin-into-action
LOCATION:Aycock Recreation Center\, 307 Carey Chapel Rd.\, Henderson\, NC\, 27537\, United States
CATEGORIES:Community Event
ATTACH;FMTTYPE=image/png:https://nuchiomegaaka.com/wp-content/uploads/2025/03/Pink-Goes-Red-Flyer-Updated-4-1.png
ORGANIZER;CN="Nu Chi Omega":MAILTO:nuchiomega@gmail.com
END:VEVENT
BEGIN:VEVENT
DTSTART;TZID=UTC:20250215T100000
DTEND;TZID=UTC:20250215T113000
DTSTAMP:20260420T154311
CREATED:20250315T141153Z
LAST-MODIFIED:20250315T142146Z
UID:714-1739613600-1739619000@nuchiomegaaka.com
SUMMARY:NXΩ Chapter Meeting
DESCRIPTION:Regular chapter meeting for Nu Chi Omega chapter members. If you are an initiated member of Alpha Kappa Alpha Sorority\, Incorporated® and would like to attend our chapter meeting\, please email for more information. All visitors will be required to provide a picture ID and proof of membership.
URL:https://nuchiomegaaka.com/event/nx%cf%89-chapter-meeting-12
LOCATION:Center for Innovation – Vance Co. Schools\, 219 Charles St.\, Henderson\, NC\, 27536\, United States
CATEGORIES:Chapter Meeting
ATTACH;FMTTYPE=image/jpeg:https://nuchiomegaaka.com/wp-content/uploads/2024/07/nco-long-logo.jpg
ORGANIZER;CN="Nu Chi Omega":MAILTO:nuchiomega@gmail.com
END:VEVENT
END:VCALENDAR